BEGIN:VCALENDAR
VERSION:2.0
PRODID:-//musikverein-bleichheim//NONSGML kigkonsult.se iCalcreator 2.30.10
 //
CALSCALE:GREGORIAN
METHOD:PUBLISH
UID:e0816d2e-de71-4aeb-bc1a-54b5b091f08b
X-WR-CALNAME:iCagenda
X-WR-CALDESC:Event Management Extension for Joomla!
X-WR-RELCALID:3E26604A-50F4-4449-8B3E-E4F4932D05B5
X-WR-TIMEZONE:UTC
BEGIN:VTIMEZONE
TZID:UTC
END:VTIMEZONE
BEGIN:VEVENT
UID:299ac251-9c1e-4feb-973b-672363e2114f
DTSTAMP:20260423T093215Z
CATEGORIES:Gesamtkapelle
CLASS:PUBLIC
DESCRIPTION:
DTSTART:20260628T000000Z
DTEND:20260628T000000Z
GEO:00;0
LOCATION:Wagenstadt
ORGANIZER:
SEQUENCE:1
SUMMARY:Sommerhock Wagenstadt
TRANSP:OPAQUE
URL:https://www.musikverein-bleichheim.de/index.php/termine/287-sommerhock-
 wagenstadt/2026-06-28-00-00
END:VEVENT
END:VCALENDAR
