BEGIN:VCALENDAR
VERSION:2.0
PRODID:-//musikverein-bleichheim//NONSGML kigkonsult.se iCalcreator 2.30.10
 //
CALSCALE:GREGORIAN
METHOD:PUBLISH
UID:4dc42066-f0ce-4bb4-b256-a5f4df87a268
X-WR-CALNAME:iCagenda
X-WR-CALDESC:Event Management Extension for Joomla!
X-WR-RELCALID:3E26604A-50F4-4449-8B3E-E4F4932D05B5
X-WR-TIMEZONE:UTC
BEGIN:VTIMEZONE
TZID:UTC
END:VTIMEZONE
BEGIN:VEVENT
UID:1534811e-ea58-4ca2-86d4-90e23dffa299
DTSTAMP:20260423T080220Z
CATEGORIES:Gesamtkapelle
CLASS:PUBLIC
DESCRIPTION:
DTSTART:20260514T163000Z
DTEND:20260514T163000Z
GEO:00;0
LOCATION:Bussacker Baden-Baden/Lichtenthal
ORGANIZER:
SEQUENCE:1
SUMMARY:Bussackerfest Baden-Baden
TRANSP:OPAQUE
URL:https://www.musikverein-bleichheim.de/index.php/termine/286-bussackerfe
 st-baden-baden/2026-05-14-16-30
END:VEVENT
END:VCALENDAR
