BEGIN:VCALENDAR
VERSION:2.0
PRODID:-//musikverein-bleichheim//NONSGML kigkonsult.se iCalcreator 2.30.10
 //
CALSCALE:GREGORIAN
METHOD:PUBLISH
UID:8e7e8324-a0f8-42a3-891d-4a49853a354b
X-WR-CALNAME:iCagenda
X-WR-CALDESC:Event Management Extension for Joomla!
X-WR-RELCALID:3E26604A-50F4-4449-8B3E-E4F4932D05B5
X-WR-TIMEZONE:UTC
BEGIN:VTIMEZONE
TZID:UTC
END:VTIMEZONE
BEGIN:VEVENT
UID:728db0d0-13ee-4180-84fa-188d1da1cd7b
DTSTAMP:20260423T092658Z
CATEGORIES:Gesamtkapelle
CLASS:PUBLIC
DESCRIPTION:
DTSTART:20260501T070000Z
DTEND:20260501T070000Z
GEO:00;0
LOCATION:
ORGANIZER:
SEQUENCE:1
SUMMARY:Maispielen
TRANSP:OPAQUE
URL:https://www.musikverein-bleichheim.de/index.php/termine/285-maispielen-
 5/2026-05-01-07-00
END:VEVENT
END:VCALENDAR
