BEGIN:VCALENDAR
VERSION:2.0
PRODID:-//musikverein-bleichheim//NONSGML kigkonsult.se iCalcreator 2.30.10
 //
CALSCALE:GREGORIAN
METHOD:PUBLISH
UID:1b631d8f-c09f-4bed-8d20-e77a7b9c4547
X-WR-CALNAME:iCagenda
X-WR-CALDESC:Event Management Extension for Joomla!
X-WR-RELCALID:3E26604A-50F4-4449-8B3E-E4F4932D05B5
X-WR-TIMEZONE:UTC
BEGIN:VTIMEZONE
TZID:UTC
END:VTIMEZONE
BEGIN:VEVENT
UID:f79498c5-cc9a-45b1-9a2a-e4274e908c57
DTSTAMP:20260423T093309Z
CATEGORIES:Gesamtkapelle
CLASS:PUBLIC
DESCRIPTION:
DTSTART:20260418T100000Z
DTEND:20260418T100000Z
GEO:00;0
LOCATION:
ORGANIZER:
SEQUENCE:1
SUMMARY:Weißer Sonntag
TRANSP:OPAQUE
URL:https://www.musikverein-bleichheim.de/index.php/termine/284-wei%C3%9Fer
 -sonntag-2026/2026-04-18-10-00
END:VEVENT
END:VCALENDAR
